BEGIN:VCALENDAR
VERSION:2.0
PRODID:-//Stirling Centre - ECPv6.15.20//NONSGML v1.0//EN
CALSCALE:GREGORIAN
METHOD:PUBLISH
X-WR-CALNAME:Stirling Centre
X-ORIGINAL-URL:https://stirlingcentre.org.uk
X-WR-CALDESC:Events for Stirling Centre
REFRESH-INTERVAL;VALUE=DURATION:PT1H
X-Robots-Tag:noindex
X-PUBLISHED-TTL:PT1H
BEGIN:VTIMEZONE
TZID:UTC
BEGIN:STANDARD
TZOFFSETFROM:+0000
TZOFFSETTO:+0000
TZNAME:UTC
DTSTART:20250101T000000
END:STANDARD
END:VTIMEZONE
BEGIN:VEVENT
DTSTART;TZID=UTC:20260405T080000
DTEND;TZID=UTC:20260411T170000
DTSTAMP:20260421T171430
CREATED:20251230T153820Z
LAST-MODIFIED:20260101T210115Z
UID:235430-1775376000-1775926800@stirlingcentre.org.uk
SUMMARY:Achieving and Sustaining Business Excellence
DESCRIPTION:Activity ID: INT260401 \nProgramme Type: RetreatMode: In-Person \nOverview:Achieving and Sustaining Business Excellence is an immersive leadership retreat focused on building sustainable organisational performance\, quality\, and long-term excellence. \n  \n  \nLocation:Edinburgh\, Scotland\n			\n			\n				\n				\n				\n				\n			\n				\n				\n				\n				\n				\n				\n				View Programme Details
URL:https://stirlingcentre.org.uk/event/achieving-and-sustaining-business-excellence/
CATEGORIES:Retreats
END:VEVENT
BEGIN:VEVENT
DTSTART;TZID=UTC:20260408T080000
DTEND;TZID=UTC:20260610T170000
DTSTAMP:20260421T171430
CREATED:20251230T154133Z
LAST-MODIFIED:20251230T154136Z
UID:235434-1775635200-1781110800@stirlingcentre.org.uk
SUMMARY:Certified Organisational Learning Professional (COLP – Education)
DESCRIPTION:Activity ID: INT260402 \nProgramme Type: TrainingMode: OnlineDuration: 8–10 weeks \nOverview:The Certified Organisational Learning Professional (COLP – Education) programme is designed for education professionals to build strong organisational learning capabilities\, leadership practice\, and sustainable improvement. \n			\n			\n				\n				\n				\n				\n			\n				\n				\n				\n				\n				\n				\n				View Programme Details
URL:https://stirlingcentre.org.uk/event/certified-organisational-learning-professional-colp-education/
CATEGORIES:Training
END:VEVENT
BEGIN:VEVENT
DTSTART;TZID=UTC:20260410T080000
DTEND;TZID=UTC:20260410T170000
DTSTAMP:20260421T171430
CREATED:20251230T153355Z
LAST-MODIFIED:20260208T190723Z
UID:235425-1775808000-1775840400@stirlingcentre.org.uk
SUMMARY:Launch of OL Standard
DESCRIPTION:Activity ID: INT260303 \nProgramme Type: LaunchMode: In-Person \nOverview:The Launch of OL Standard marks the introduction of a new standard focused on organisational learning\, quality\, and impact. The event brings together stakeholders\, partners\, and practitioners to explore the framework and its application. \nLocation:University of Stirling \n			\n			\n				\n				\n				\n				\n			\n				\n				\n				\n				\n				\n				\n				View Programme Details
URL:https://stirlingcentre.org.uk/event/launch-of-ol-standard/
CATEGORIES:Launches
END:VEVENT
END:VCALENDAR