BEGIN:VCALENDAR
VERSION:2.0
PRODID:-//Stirling Centre - ECPv6.15.20//NONSGML v1.0//EN
CALSCALE:GREGORIAN
METHOD:PUBLISH
X-WR-CALNAME:Stirling Centre
X-ORIGINAL-URL:https://stirlingcentre.org.uk
X-WR-CALDESC:Events for Stirling Centre
REFRESH-INTERVAL;VALUE=DURATION:PT1H
X-Robots-Tag:noindex
X-PUBLISHED-TTL:PT1H
BEGIN:VTIMEZONE
TZID:UTC
BEGIN:STANDARD
TZOFFSETFROM:+0000
TZOFFSETTO:+0000
TZNAME:UTC
DTSTART:20250101T000000
END:STANDARD
END:VTIMEZONE
BEGIN:VEVENT
DTSTART;TZID=UTC:20260408T080000
DTEND;TZID=UTC:20260610T170000
DTSTAMP:20260420T154358
CREATED:20251230T154133Z
LAST-MODIFIED:20251230T154136Z
UID:235434-1775635200-1781110800@stirlingcentre.org.uk
SUMMARY:Certified Organisational Learning Professional (COLP – Education)
DESCRIPTION:Activity ID: INT260402 \nProgramme Type: TrainingMode: OnlineDuration: 8–10 weeks \nOverview:The Certified Organisational Learning Professional (COLP – Education) programme is designed for education professionals to build strong organisational learning capabilities\, leadership practice\, and sustainable improvement. \n			\n			\n				\n				\n				\n				\n			\n				\n				\n				\n				\n				\n				\n				View Programme Details
URL:https://stirlingcentre.org.uk/event/certified-organisational-learning-professional-colp-education/
CATEGORIES:Training
END:VEVENT
BEGIN:VEVENT
DTSTART;TZID=UTC:20260607T080000
DTEND;TZID=UTC:20260610T170000
DTSTAMP:20260420T154358
CREATED:20251230T171655Z
LAST-MODIFIED:20251230T171658Z
UID:235468-1780819200-1781110800@stirlingcentre.org.uk
SUMMARY:Global Executive Learning Forum
DESCRIPTION:Activity ID: EXT260601 \nProgramme Type: ConferenceMode: In-Person \nOverview:The Global Executive Learning Forum is a multi-day in-person conference bringing together senior leaders and executives to explore advanced learning\, leadership\, and organisational development practices. \nLocation:Stirling Court Hotel\, Stirling\, Scotland \n			\n			\n				\n				\n				\n				\n			\n				\n				\n				\n				\n				\n				\n				View Programme Details
URL:https://stirlingcentre.org.uk/event/global-executive-learning-forum/
CATEGORIES:Conferences
END:VEVENT
BEGIN:VEVENT
DTSTART;TZID=UTC:20260610T080000
DTEND;TZID=UTC:20260819T170000
DTSTAMP:20260420T154358
CREATED:20251230T172455Z
LAST-MODIFIED:20260208T190932Z
UID:235473-1781078400-1787158800@stirlingcentre.org.uk
SUMMARY:Certified Organisational Learning Professional
DESCRIPTION:Activity ID: INT260602 \nProgramme Type: TrainingMode: OnlineDuration: 8–10 weeks \nOverview:The Certified Organisational Learning programme is an online training designed to develop strong organisational learning capabilities\, leadership practice\, and sustainable improvement. \n			\n			\n				\n				\n				\n				\n			\n				\n				\n				\n				\n				\n				\n				View Programme Details
URL:https://stirlingcentre.org.uk/event/certified-organisational-learning/
CATEGORIES:Training
END:VEVENT
END:VCALENDAR