BEGIN:VCALENDAR
VERSION:2.0
PRODID:-//Stirling Centre - ECPv6.15.20//NONSGML v1.0//EN
CALSCALE:GREGORIAN
METHOD:PUBLISH
X-ORIGINAL-URL:https://stirlingcentre.org.uk
X-WR-CALDESC:Events for Stirling Centre
REFRESH-INTERVAL;VALUE=DURATION:PT1H
X-Robots-Tag:noindex
X-PUBLISHED-TTL:PT1H
BEGIN:VTIMEZONE
TZID:UTC
BEGIN:STANDARD
TZOFFSETFROM:+0000
TZOFFSETTO:+0000
TZNAME:UTC
DTSTART:20250101T000000
END:STANDARD
END:VTIMEZONE
BEGIN:VEVENT
DTSTART;TZID=UTC:20260801T080000
DTEND;TZID=UTC:20260806T170000
DTSTAMP:20260421T223310
CREATED:20251230T173429Z
LAST-MODIFIED:20260122T100945Z
UID:235486-1785571200-1786035600@stirlingcentre.org.uk
SUMMARY:Global Medical Tourism Leadership & Experience Programme
DESCRIPTION:Activity ID: INT260801 \nProgramme Type: RetreatMode: In-Person \nOverview:The Global Medical Tourism Leadership & Experience Programme is an immersive international retreat designed for leaders and professionals in the medical tourism sector\, combining strategic learning with hands-on experience. \n  \n  \nLocation:Ismailia\, Egypt\n			\n			\n				\n				\n				\n				\n			\n				\n				\n				\n				\n				\n				\n				View Programme Details
URL:https://stirlingcentre.org.uk/event/global-medical-tourism-leadership-experience-programme-2/
CATEGORIES:Retreats
END:VEVENT
END:VCALENDAR