BEGIN:VCALENDAR
VERSION:2.0
PRODID:-//Stirling Centre - ECPv6.15.20//NONSGML v1.0//EN
CALSCALE:GREGORIAN
METHOD:PUBLISH
X-WR-CALNAME:Stirling Centre
X-ORIGINAL-URL:https://stirlingcentre.org.uk
X-WR-CALDESC:Events for Stirling Centre
REFRESH-INTERVAL;VALUE=DURATION:PT1H
X-Robots-Tag:noindex
X-PUBLISHED-TTL:PT1H
BEGIN:VTIMEZONE
TZID:UTC
BEGIN:STANDARD
TZOFFSETFROM:+0000
TZOFFSETTO:+0000
TZNAME:UTC
DTSTART:20250101T000000
END:STANDARD
END:VTIMEZONE
BEGIN:VEVENT
DTSTART;TZID=UTC:20260408T080000
DTEND;TZID=UTC:20260610T170000
DTSTAMP:20260421T172300
CREATED:20251230T154133Z
LAST-MODIFIED:20251230T154136Z
UID:235434-1775635200-1781110800@stirlingcentre.org.uk
SUMMARY:Certified Organisational Learning Professional (COLP – Education)
DESCRIPTION:Activity ID: INT260402 \nProgramme Type: TrainingMode: OnlineDuration: 8–10 weeks \nOverview:The Certified Organisational Learning Professional (COLP – Education) programme is designed for education professionals to build strong organisational learning capabilities\, leadership practice\, and sustainable improvement. \n			\n			\n				\n				\n				\n				\n			\n				\n				\n				\n				\n				\n				\n				View Programme Details
URL:https://stirlingcentre.org.uk/event/certified-organisational-learning-professional-colp-education/
CATEGORIES:Training
END:VEVENT
BEGIN:VEVENT
DTSTART;TZID=UTC:20260415T080000
DTEND;TZID=UTC:20260430T170000
DTSTAMP:20260421T172300
CREATED:20251230T164743Z
LAST-MODIFIED:20251230T164746Z
UID:235443-1776240000-1777568400@stirlingcentre.org.uk
SUMMARY:Productise Your Learning – Conference and Workshops
DESCRIPTION:Activity ID: INT260404 \nProgramme Type: Training / ConferenceMode: In-Person \nOverview:Productise Your Learning is a combined conference and workshop series designed to help organisations and professionals convert learning initiatives into scalable\, impactful solutions. \nLocations:Lahore & Islamabad\, Pakistan \n			\n			\n				\n				\n				\n				\n			\n				\n				\n				\n				\n				\n				\n				View Programme Details
URL:https://stirlingcentre.org.uk/event/productise-your-learning-conference-and-workshops/
CATEGORIES:Training
END:VEVENT
BEGIN:VEVENT
DTSTART;TZID=UTC:20260415T080000
DTEND;TZID=UTC:20260603T170000
DTSTAMP:20260421T172300
CREATED:20251230T164300Z
LAST-MODIFIED:20251230T164303Z
UID:235438-1776240000-1780506000@stirlingcentre.org.uk
SUMMARY:Futures and Foresight Masterclass – By Professor Jeff Gold
DESCRIPTION:Activity ID: EXT260403 \nProgramme Type: TrainingMode: OnlineFormat: Masterclass \nDuration:8 sessions\, each lasting 60–90 minutes \nOverview:The Futures and Foresight Masterclass\, led by Professor Jeff Gold\, is designed to develop future-focused thinking\, foresight capabilities\, and strategic insight for professionals and leaders. \nRegistration:Registration page and form will be available soon.
URL:https://stirlingcentre.org.uk/event/futures-and-foresight-masterclass-by-professor-jeff-gold/
CATEGORIES:Training
END:VEVENT
BEGIN:VEVENT
DTSTART;TZID=UTC:20260425T080000
DTEND;TZID=UTC:20260425T170000
DTSTAMP:20260421T172300
CREATED:20251230T165200Z
LAST-MODIFIED:20251230T165203Z
UID:235447-1777104000-1777136400@stirlingcentre.org.uk
SUMMARY:The Bestseller Blueprint – Naula Naughton
DESCRIPTION:Activity ID: EXT260405 \nProgramme Type: TrainingMode: Online \nOverview:The Bestseller Blueprint is an online training programme led by Naula Naughton\, designed to guide participants through the process of creating\, positioning\, and launching impactful bestselling content. \n			\n			\n				\n				\n				\n				\n			\n				\n				\n				\n				\n				\n				\n				View Programme Details
URL:https://stirlingcentre.org.uk/event/the-bestseller-blueprint-naula-naughton/
CATEGORIES:Training
END:VEVENT
END:VCALENDAR