BEGIN:VCALENDAR
VERSION:2.0
PRODID:-//Stirling Centre - ECPv6.15.20//NONSGML v1.0//EN
CALSCALE:GREGORIAN
METHOD:PUBLISH
X-WR-CALNAME:Stirling Centre
X-ORIGINAL-URL:https://stirlingcentre.org.uk
X-WR-CALDESC:Events for Stirling Centre
REFRESH-INTERVAL;VALUE=DURATION:PT1H
X-Robots-Tag:noindex
X-PUBLISHED-TTL:PT1H
BEGIN:VTIMEZONE
TZID:UTC
BEGIN:STANDARD
TZOFFSETFROM:+0000
TZOFFSETTO:+0000
TZNAME:UTC
DTSTART:20250101T000000
END:STANDARD
END:VTIMEZONE
BEGIN:VEVENT
DTSTART;TZID=UTC:20260624T080000
DTEND;TZID=UTC:20260624T170000
DTSTAMP:20260421T184651
CREATED:20251230T172757Z
LAST-MODIFIED:20251230T172800Z
UID:235477-1782288000-1782320400@stirlingcentre.org.uk
SUMMARY:Business Excellence & Quality Thinking – Prof. Paulo Sampaio
DESCRIPTION:Activity ID: INT260603 \nProgramme Type: Webinar / SeminarMode: Online \nTopic:Business Excellence & Quality Thinking \nSpeaker:Prof. Paulo Sampaio \nThis session is part of the Thomas Reid Learning Forum and explores principles of business excellence and quality-driven organisational thinking. \n			\n			\n				\n				\n				\n				\n			\n				\n				\n				\n				\n				\n				\n				View Programme Details
URL:https://stirlingcentre.org.uk/event/business-excellence-quality-thinking-prof-paulo-sampaio/
CATEGORIES:Webinars
END:VEVENT
END:VCALENDAR