BEGIN:VCALENDAR
VERSION:2.0
PRODID:-//Stirling Centre - ECPv6.15.20//NONSGML v1.0//EN
CALSCALE:GREGORIAN
METHOD:PUBLISH
X-WR-CALNAME:Stirling Centre
X-ORIGINAL-URL:https://stirlingcentre.org.uk
X-WR-CALDESC:Events for Stirling Centre
REFRESH-INTERVAL;VALUE=DURATION:PT1H
X-Robots-Tag:noindex
X-PUBLISHED-TTL:PT1H
BEGIN:VTIMEZONE
TZID:UTC
BEGIN:STANDARD
TZOFFSETFROM:+0000
TZOFFSETTO:+0000
TZNAME:UTC
DTSTART:20250101T000000
END:STANDARD
END:VTIMEZONE
BEGIN:VEVENT
DTSTART;TZID=UTC:20260429T080000
DTEND;TZID=UTC:20260429T170000
DTSTAMP:20260421T110056
CREATED:20251230T165513Z
LAST-MODIFIED:20251230T165517Z
UID:235451-1777449600-1777482000@stirlingcentre.org.uk
SUMMARY:Innovation Practices for SMEs – Dr Arnaldo Costier
DESCRIPTION:Activity ID: INT260406 \nProgramme Type: Webinar / SeminarMode: In-Person \nTopic:Innovation Practices for SMEs \nSpeaker:Dr Arnaldo Costier \nLocation:University of Stirling Innovation Park – Scion Centre \nThis session is part of the Thomas Reid Learning Forum series and focuses on practical innovation strategies for small and medium-sized enterprises. \n			\n			\n				\n				\n				\n				\n			\n				\n				\n				\n				\n				\n				\n				View Programme Details
URL:https://stirlingcentre.org.uk/event/innovation-practices-for-smes-dr-arnaldo-costier/
CATEGORIES:Webinars
END:VEVENT
END:VCALENDAR